BEGIN:VCALENDAR
VERSION:2.0
PRODID:-//Centre for Research on Discretion and Paternalism (DIPA) - ECPv6.15.20//NONSGML v1.0//EN
CALSCALE:GREGORIAN
METHOD:PUBLISH
X-WR-CALNAME:Centre for Research on Discretion and Paternalism (DIPA)
X-ORIGINAL-URL:https://discretion.w.uib.no
X-WR-CALDESC:Events for Centre for Research on Discretion and Paternalism (DIPA)
REFRESH-INTERVAL;VALUE=DURATION:PT1H
X-Robots-Tag:noindex
X-PUBLISHED-TTL:PT1H
BEGIN:VTIMEZONE
TZID:Europe/Oslo
BEGIN:DAYLIGHT
TZOFFSETFROM:+0100
TZOFFSETTO:+0200
TZNAME:CEST
DTSTART:20160327T010000
END:DAYLIGHT
BEGIN:STANDARD
TZOFFSETFROM:+0200
TZOFFSETTO:+0100
TZNAME:CET
DTSTART:20161030T010000
END:STANDARD
BEGIN:DAYLIGHT
TZOFFSETFROM:+0100
TZOFFSETTO:+0200
TZNAME:CEST
DTSTART:20170326T010000
END:DAYLIGHT
BEGIN:STANDARD
TZOFFSETFROM:+0200
TZOFFSETTO:+0100
TZNAME:CET
DTSTART:20171029T010000
END:STANDARD
BEGIN:DAYLIGHT
TZOFFSETFROM:+0100
TZOFFSETTO:+0200
TZNAME:CEST
DTSTART:20180325T010000
END:DAYLIGHT
BEGIN:STANDARD
TZOFFSETFROM:+0200
TZOFFSETTO:+0100
TZNAME:CET
DTSTART:20181028T010000
END:STANDARD
END:VTIMEZONE
BEGIN:VEVENT
DTSTART;TZID=Europe/Oslo:20171109T141500
DTEND;TZID=Europe/Oslo:20171109T154500
DTSTAMP:20260419T170104
CREATED:20170911T065029Z
LAST-MODIFIED:20170911T065029Z
UID:1762-1510236900-1510242300@discretion.w.uib.no
SUMMARY:Seminar series: Law\, democracy and welfare
DESCRIPTION:Professor in Sociology Thomas Lorentzen will give the presentation: Løpebaner i arbeidslivet og trygdesystemet de siste 20 årene: Har man nådd målsetningen om å få flere sårbare inn i arbeidsstyrken? [Trends in worklife and welfare benefits the last 20 years: Have we met the goal to include more vulnerable workers in the workforce?\, in Norwegian].\n \n  \nOpen for all.
URL:https://discretion.w.uib.no/event/seminar-series-law-democracy-and-welfare-2/
LOCATION:DIPA-room (17.112)\, Christies gate 17\, University of Bergen\, Christies gate 17\, Bergen\, Bergen\, 5007\, Norway
CATEGORIES:Seminar
END:VEVENT
BEGIN:VEVENT
DTSTART;TZID=Europe/Oslo:20171110T110000
DTEND;TZID=Europe/Oslo:20171110T120000
DTSTAMP:20260419T170104
CREATED:20170825T104202Z
LAST-MODIFIED:20170825T104202Z
UID:1485-1510311600-1510315200@discretion.w.uib.no
SUMMARY:Presentation by Marit Skivenes at the "Child Welfare 2017" Conference
DESCRIPTION:On November 10th\, principal investigator and director Marit Skivenes\, will give the presentation “Adoption as a child welfare measure – a research project assigned from The Norwegian Directorate for Children\, Youth and Family Affairs” at the Conference “Child Welfare 2017” hosted by The county social welfare board of Hordaland and Sogn og Fjordane.
URL:https://discretion.w.uib.no/event/presentation/
LOCATION:Fylkesnemnda i Hordaland og Sogn og Fjordane\, Zander Kaaes gate 6\, Bergen\, 5015\, Norway
CATEGORIES:Presentation
END:VEVENT
BEGIN:VEVENT
DTSTART;TZID=Europe/Oslo:20171116T141500
DTEND;TZID=Europe/Oslo:20171116T154500
DTSTAMP:20260419T170104
CREATED:20171107T101138Z
LAST-MODIFIED:20171107T101138Z
UID:2337-1510841700-1510847100@discretion.w.uib.no
SUMMARY:Jill Duerr Berrick will present her new book "The Impossible Imperative"
DESCRIPTION:November 16\, Professor Jill Duerr Berrick will give a talk about her recently published book The Impossible Imperative – Navigating the competing principles of child protection.\, [in english] \n 
URL:https://discretion.w.uib.no/event/jill-duerr-berrick-will-present-her-new-book-the-impossible-imperative/
LOCATION:DIPA-room (17.112)\, Christies gate 17\, University of Bergen\, Christies gate 17\, Bergen\, Bergen\, 5007\, Norway
END:VEVENT
BEGIN:VEVENT
DTSTART;TZID=Europe/Oslo:20171123T141500
DTEND;TZID=Europe/Oslo:20171123T154500
DTSTAMP:20260419T170104
CREATED:20171002T114015Z
LAST-MODIFIED:20171002T114015Z
UID:2073-1511446500-1511451900@discretion.w.uib.no
SUMMARY:Seminar series: Law\, democracy and welfare
DESCRIPTION:Lisa Wallander\, University lecturer at Lund University\, is coming to Bergen to speak to us about Professionella bedömningar – teoretiska och metodologiska perspektiv. \nThe seminar is free and open to all.
URL:https://discretion.w.uib.no/event/seminar-series-law-democracy-and-welfare-3/
LOCATION:Møllendalsveien 6\, Møllendalsveien 6\, Bergen\, Norway
END:VEVENT
BEGIN:VEVENT
DTSTART;TZID=Europe/Oslo:20171124T120000
DTEND;TZID=Europe/Oslo:20171124T130000
DTSTAMP:20260419T170104
CREATED:20171006T131726Z
LAST-MODIFIED:20171006T131726Z
UID:2093-1511524800-1511528400@discretion.w.uib.no
SUMMARY:Presentation for the Ministry of Children and Equality
DESCRIPTION:Our director professor Marit Skivenes will give a presentation on decision-making in child welfare services at a closed seminar organized by the Ministry of Children and Equality.
URL:https://discretion.w.uib.no/event/presentation-for-the-ministry-of-children-and-equality/
LOCATION:Ministry of Children and Equality\, Oslo\, Akersgata 59\, 0180\, Norway
END:VEVENT
END:VCALENDAR