BEGIN:VCALENDAR
VERSION:2.0
PRODID:-//Centre for Research on Discretion and Paternalism (DIPA) - ECPv6.15.20//NONSGML v1.0//EN
CALSCALE:GREGORIAN
METHOD:PUBLISH
X-WR-CALNAME:Centre for Research on Discretion and Paternalism (DIPA)
X-ORIGINAL-URL:https://discretion.w.uib.no
X-WR-CALDESC:Events for Centre for Research on Discretion and Paternalism (DIPA)
REFRESH-INTERVAL;VALUE=DURATION:PT1H
X-Robots-Tag:noindex
X-PUBLISHED-TTL:PT1H
BEGIN:VTIMEZONE
TZID:Europe/Oslo
BEGIN:DAYLIGHT
TZOFFSETFROM:+0100
TZOFFSETTO:+0200
TZNAME:CEST
DTSTART:20160327T010000
END:DAYLIGHT
BEGIN:STANDARD
TZOFFSETFROM:+0200
TZOFFSETTO:+0100
TZNAME:CET
DTSTART:20161030T010000
END:STANDARD
BEGIN:DAYLIGHT
TZOFFSETFROM:+0100
TZOFFSETTO:+0200
TZNAME:CEST
DTSTART:20170326T010000
END:DAYLIGHT
BEGIN:STANDARD
TZOFFSETFROM:+0200
TZOFFSETTO:+0100
TZNAME:CET
DTSTART:20171029T010000
END:STANDARD
BEGIN:DAYLIGHT
TZOFFSETFROM:+0100
TZOFFSETTO:+0200
TZNAME:CEST
DTSTART:20180325T010000
END:DAYLIGHT
BEGIN:STANDARD
TZOFFSETFROM:+0200
TZOFFSETTO:+0100
TZNAME:CET
DTSTART:20181028T010000
END:STANDARD
END:VTIMEZONE
BEGIN:VEVENT
DTSTART;TZID=Europe/Oslo:20170928T141500
DTEND;TZID=Europe/Oslo:20170928T154500
DTSTAMP:20260419T171740
CREATED:20170911T064454Z
LAST-MODIFIED:20170911T064454Z
UID:1758-1506608100-1506613500@discretion.w.uib.no
SUMMARY:Seminar series: Law\, democracy and welfare
DESCRIPTION:Professor of Law Jørn Øyrehagen Sunde will present his book “Comparing legal cultures”. Sunde’s field of expertise is the history of law and different legal cultures. \n  \nOpen for all.
URL:https://discretion.w.uib.no/event/seminar-series-law-democracy-and-welfare/
LOCATION:DIPA-room (17.112)\, Christies gate 17\, University of Bergen\, Christies gate 17\, Bergen\, Bergen\, 5007\, Norway
CATEGORIES:Seminar
END:VEVENT
END:VCALENDAR