BEGIN:VCALENDAR
VERSION:2.0
PRODID:-//Centre for Research on Discretion and Paternalism (DIPA) - ECPv6.15.20//NONSGML v1.0//EN
CALSCALE:GREGORIAN
METHOD:PUBLISH
X-WR-CALNAME:Centre for Research on Discretion and Paternalism (DIPA)
X-ORIGINAL-URL:https://discretion.w.uib.no
X-WR-CALDESC:Events for Centre for Research on Discretion and Paternalism (DIPA)
REFRESH-INTERVAL;VALUE=DURATION:PT1H
X-Robots-Tag:noindex
X-PUBLISHED-TTL:PT1H
BEGIN:VTIMEZONE
TZID:Europe/Oslo
BEGIN:DAYLIGHT
TZOFFSETFROM:+0100
TZOFFSETTO:+0200
TZNAME:CEST
DTSTART:20180325T010000
END:DAYLIGHT
BEGIN:STANDARD
TZOFFSETFROM:+0200
TZOFFSETTO:+0100
TZNAME:CET
DTSTART:20181028T010000
END:STANDARD
BEGIN:DAYLIGHT
TZOFFSETFROM:+0100
TZOFFSETTO:+0200
TZNAME:CEST
DTSTART:20190331T010000
END:DAYLIGHT
BEGIN:STANDARD
TZOFFSETFROM:+0200
TZOFFSETTO:+0100
TZNAME:CET
DTSTART:20191027T010000
END:STANDARD
BEGIN:DAYLIGHT
TZOFFSETFROM:+0100
TZOFFSETTO:+0200
TZNAME:CEST
DTSTART:20200329T010000
END:DAYLIGHT
BEGIN:STANDARD
TZOFFSETFROM:+0200
TZOFFSETTO:+0100
TZNAME:CET
DTSTART:20201025T010000
END:STANDARD
END:VTIMEZONE
BEGIN:VEVENT
DTSTART;TZID=Europe/Oslo:20190228T141500
DTEND;TZID=Europe/Oslo:20190228T154500
DTSTAMP:20260419T183054
CREATED:20190201T094332Z
LAST-MODIFIED:20190201T094332Z
UID:4357-1551363300-1551368700@discretion.w.uib.no
SUMMARY:Research seminar: Child Removals
DESCRIPTION:Program: \n\nKatre Luhamaa: Child removal as a last resort – comparing the state’s support to families at risk in Europe’\nJenny Krutzinna: Breaking the cycle: Towards solidarity with future mothers in care’ which focus on the solidarity aspect of the removal of newborn babies in eight European countries \n\nKatre Luhamaa is researcher at the Center for Research on Discretion and Paternalism\, and holds a Ph.D. in Law. Her field of expertise include Law and Legal Studies\, Human Rights and Democracy\, EU and European Studies\, and Legal Theory. Her research focuses on international law\, EU law and human rights\, and in particular children’s rights. \nJenny Krutzinna is a researcher at the Center for Research on Discretion and Paternalism\, and holds a Ph.D. in Bioethics and Biomedical Jurisprudence. Her main research interest is the role of well-being as justification in ethical and legal argumentation processes\, especially in the context of raising and educating children. \nThe seminar is a collaboration between the Research Group Law\, Democracy and Welfare at the Western Norway University of Applied Sciences\, Center for Research on Discretion and Paternalism at the Department of Administration and Organization Theory at the University of Bergen\, and the Center for Law and Social Transformation at the University of Bergen / CMI. \nContact: hege.helland@uib.no 
URL:https://discretion.w.uib.no/event/research-seminar-child-removals/
LOCATION:DIPA-room (17.112)\, Christies gate 17\, University of Bergen\, Christies gate 17\, Bergen\, Bergen\, 5007\, Norway
CATEGORIES:Seminar
END:VEVENT
END:VCALENDAR