BEGIN:VCALENDAR
VERSION:2.0
PRODID:-//Centre for Research on Discretion and Paternalism (DIPA) - ECPv6.15.20//NONSGML v1.0//EN
CALSCALE:GREGORIAN
METHOD:PUBLISH
X-WR-CALNAME:Centre for Research on Discretion and Paternalism (DIPA)
X-ORIGINAL-URL:https://discretion.w.uib.no
X-WR-CALDESC:Events for Centre for Research on Discretion and Paternalism (DIPA)
REFRESH-INTERVAL;VALUE=DURATION:PT1H
X-Robots-Tag:noindex
X-PUBLISHED-TTL:PT1H
BEGIN:VTIMEZONE
TZID:Europe/Oslo
BEGIN:DAYLIGHT
TZOFFSETFROM:+0100
TZOFFSETTO:+0200
TZNAME:CEST
DTSTART:20170326T010000
END:DAYLIGHT
BEGIN:STANDARD
TZOFFSETFROM:+0200
TZOFFSETTO:+0100
TZNAME:CET
DTSTART:20171029T010000
END:STANDARD
BEGIN:DAYLIGHT
TZOFFSETFROM:+0100
TZOFFSETTO:+0200
TZNAME:CEST
DTSTART:20180325T010000
END:DAYLIGHT
BEGIN:STANDARD
TZOFFSETFROM:+0200
TZOFFSETTO:+0100
TZNAME:CET
DTSTART:20181028T010000
END:STANDARD
BEGIN:DAYLIGHT
TZOFFSETFROM:+0100
TZOFFSETTO:+0200
TZNAME:CEST
DTSTART:20190331T010000
END:DAYLIGHT
BEGIN:STANDARD
TZOFFSETFROM:+0200
TZOFFSETTO:+0100
TZNAME:CET
DTSTART:20191027T010000
END:STANDARD
END:VTIMEZONE
BEGIN:VEVENT
DTSTART;TZID=Europe/Oslo:20181022T150000
DTEND;TZID=Europe/Oslo:20181022T170000
DTSTAMP:20260419T234537
CREATED:20181012T142115Z
LAST-MODIFIED:20181012T142115Z
UID:3553-1540220400-1540227600@discretion.w.uib.no
SUMMARY:Norsk barnevern sett med internasjonale øyne
DESCRIPTION:Prof. Marit Skivenes and researcher Katre Luhamaa are presenting at a seminar on the critique of Norwegian Child Protection. The seminar is held at Litteraturhuset i Oslo\, and organized by the Ministry of Children and Equality. \nThe Ministry plan to video stream the seminar. We will share the link on this page when available. \nAgenda (in Norwegian) \n\nÅpning ved Statsråden\nBarne- og likestillingsminister Linda Hofstad Helleland om synet på og verdsettingen av barn i Norge og norske velferdstjenester\, og hvordan dette legger føringer på barnevernet.\nNorsk barnevern og det internasjonale perspektivet\nMari Trommald\, direktør i Barne-\, ungdoms- og familiedirektoratet\, ønsker velkommen og etablerer dagens problemstilling.\nUngdommer om synet på barns rettssikkerhet og barnevernets rolle\nInnlegg fra tre ungdommer fra Forandringsfabrikken.\nBarnevern over landegrenser\nSiri Sletner – nylig tilbakevendt ambassadør ved den norske ambassaden i Praha – vil formidle sine erfaringer fra å stå i mediestorm og kritikk i Tsjekkia.\nBarnevernet i internasjonale medier\nBBCs Tim Whewell\, reporteren bak Norway’s Silent Scandal og Maciej Czarnecki\, forfatter av boken Norsk barnevern sett utenfra og Egil Espen Hansen\, sjefsredaktør i Aftenposten\, deltar i debatt som bl.a. vil belyse framstillinger av norsk barnevern\, kildekritikk og hensynet til personvern og informasjon om substansen i barnevernssaker.\nHva kjennetegner norsk barnevern\, og hva skiller Norge fra andre land?\nProfessor Marit Skivenes fra Universitetet i Bergen snakker om hva som kjennetegner norsk barnevern basert på egne sammenlignende studier av barnevern i ulike land.\n Katre Luhamaaa fra Universitetet i Bergen snakker om barnerettigheter og menneskerettighetsdomstolens avgjørelser om barn og barnevern.\nHvordan kan rettssikkerheten i barnevernet styrkes?\nInnledning fra Barneombudet om hva hun mener må gjøres for å styrke rettssikkerheten.\nDebatt: Inga Bejer Engh (barneombud)\, Marit Skivenes (UiB)\, Jan Storø (OsloMet)\, Thea Totland (BARNAS- Stiftelsen barnas rettigheter og Barneadvokatene) og Pernille Pettersen Smith (fylkesnemda).\n\nBarne- og likestillingsminister Linda Hofstad Helleland inviterer til seminar for å diskutere det norske barnevernet sett med utenlandske øyne. \nSeminaret er mandag 22. oktober\, kl. 15.00 – 17.00 på Amalie Skram\, Litteraturhuset i Oslo. Siri Lill Mannes er ordstyrer.
URL:https://discretion.w.uib.no/event/norsk-barnevern-sett-med-internasjonale-oyne/
LOCATION:Amalie Skram\, Litteraturhuset i Oslo\, Wergelandsveien 29\, Oslo\, Norway
CATEGORIES:Public event
END:VEVENT
END:VCALENDAR