BEGIN:VCALENDAR
VERSION:2.0
PRODID:-//Centre for Research on Discretion and Paternalism (DIPA) - ECPv6.15.20//NONSGML v1.0//EN
CALSCALE:GREGORIAN
METHOD:PUBLISH
X-ORIGINAL-URL:https://discretion.w.uib.no
X-WR-CALDESC:Events for Centre for Research on Discretion and Paternalism (DIPA)
REFRESH-INTERVAL;VALUE=DURATION:PT1H
X-Robots-Tag:noindex
X-PUBLISHED-TTL:PT1H
BEGIN:VTIMEZONE
TZID:Europe/Oslo
BEGIN:DAYLIGHT
TZOFFSETFROM:+0100
TZOFFSETTO:+0200
TZNAME:CEST
DTSTART:20170326T010000
END:DAYLIGHT
BEGIN:STANDARD
TZOFFSETFROM:+0200
TZOFFSETTO:+0100
TZNAME:CET
DTSTART:20171029T010000
END:STANDARD
BEGIN:DAYLIGHT
TZOFFSETFROM:+0100
TZOFFSETTO:+0200
TZNAME:CEST
DTSTART:20180325T010000
END:DAYLIGHT
BEGIN:STANDARD
TZOFFSETFROM:+0200
TZOFFSETTO:+0100
TZNAME:CET
DTSTART:20181028T010000
END:STANDARD
BEGIN:DAYLIGHT
TZOFFSETFROM:+0100
TZOFFSETTO:+0200
TZNAME:CEST
DTSTART:20190331T010000
END:DAYLIGHT
BEGIN:STANDARD
TZOFFSETFROM:+0200
TZOFFSETTO:+0100
TZNAME:CET
DTSTART:20191027T010000
END:STANDARD
END:VTIMEZONE
BEGIN:VEVENT
DTSTART;TZID=Europe/Oslo:20180913T000000
DTEND;TZID=Europe/Oslo:20180913T235959
DTSTAMP:20260419T205605
CREATED:20180903T081510Z
LAST-MODIFIED:20180903T081510Z
UID:3339-1536796800-1536883199@discretion.w.uib.no
SUMMARY:INSP Symposium on Social Policy
DESCRIPTION:What works and what doesn’t work in social and economic policy? \nSystematic reviews aims to provide a complete\, exhaustive summary of current literature on a given topic – and thus establish evidence based advices for intervention. How should systematic reviews be used? And is systematic reviews the best way to affect and improve policy? \nPart 1: Systematic reviews – Better Policy Implementation? (09.00 – 12.15)\n\nWelcome and Introductions\nMarit Skivenes\, University of Bergen\nDouglas Besharov\, University of Maryland\nNeil Gilbert\, UC Berkeley\nWhat are Campbell Collaboration systematic reviews? How are they used?\nHoward White\, Campbell Collaboration\nOther systematic (and non-systematic) literature reviews for policy and planning\nJacob Klerman\, Abt Associates\nAdding a formal policy analysis\nMartin Potucek\, Charles University\nEstablishing National and Regional Centers for Systematic Reviews\nHoward White\, Campbell Collaboration\nPersonnel\, Funding\, Structure\, etc.\n\nPart 2: PhD Course: Introduction to Systematic Reviews (13.15 – 16.15)\nSee event for this part. Participation require preregistration. \n\nDeveloping a Protocol\nHoward White\, Campbell Collaboration\nSynthesis\nJacob Klerman\, Abt Associates\nDiscussion / Analysis\nDouglas Call\, University of Maryland\nPublication\nHoward White\, Campbell Collaboration\nJacob Klerman\, Abt Associates\n\nAbout\nThe symposium is organized as part of International Network for Social Policy Teaching and Research (INSP) annual meeting. The symposium is free of charge and open for everyone. \nThe venue at Jekteviksbakken 31 (Bergen Resource Centre) is next to the Faculty of Law at UiB\, where it is possible to purchase refreshments in the cafeteria. \nOrganizers: \nInternational Network for Social Policy Teaching and Research \nCentre for Research on Discretion and Paternalism \nUC Berkeley Social Welfare \nUniversity of Maryland – School of Public Policy \nBergen Resource Centre
URL:https://discretion.w.uib.no/event/insp-symposium-on-social-policy/
LOCATION:Jekteviksbakken 31\, Jekteviksbakken 31\, Bergen\, Hordaland\, 5006\, Norway
CATEGORIES:Seminar
ATTACH;FMTTYPE=image/png:https://discretion.w.uib.no/files/2018/09/Public-symposium.png
END:VEVENT
BEGIN:VEVENT
DTSTART;TZID=Europe/Oslo:20180913T090000
DTEND;TZID=Europe/Oslo:20180913T161500
DTSTAMP:20260419T205605
CREATED:20180824T100635Z
LAST-MODIFIED:20180824T100635Z
UID:3305-1536829200-1536855300@discretion.w.uib.no
SUMMARY:PhD Seminar on Systematic Reviews
DESCRIPTION:What works and what doesn’t work in social and economic policy? \nSystematic reviews have a long tradition in medicine and health sciences\, and is now gaining popularity in social sciences and economics.  The aim of a systematic review is to provide a complete\, exhaustive summary of current literature on a given topic – and thus establish evidence based advice’s for intervention. \nThis PhD Course is held by some of the worlds leading experts on systematic reviews. The course covers what a systematic review is\, how to conduct a systematic review and how such reviews can be used to affect policy. \nRegistration\nThe seminar is open and free of charge for PhD students and post-doctoral researchers at UiB\, CMI\, NHH and HVL. \nThe course consist of a closed seminar for PhD and postdoctoral students\, giving an introduction to systematic reviews\, and the open session “Systematic reviews –\nBetter Policy Implementation?”. \nCitations from University of Maryland are issued to participants at the course (attendance at both sessions required). Preregistration is needed\, as there are limited spots at the course. Please contact: Daniel.Nygard@uib.no (Research coordinator) \nAgenda\nPart 1: Systematic reviews – Better Policy Implementation? (09.00 – 12.15) \n\nWelcome and Introductions\nMarit Skivenes\, University of Bergen\nDouglas Besharov\, University of Maryland\nNeil Gilbert\, UC Berkeley\nWhat are Campbell Collaboration systematic reviews? How are they used?\nHoward White\, Campbell Collaboration\nOther systematic (and non-systematic) literature reviews for policy and planning\nJacob Klerman\, Abt Associates\nAdding a formal policy analysis\nMartin Potucek\, Charles University\nEstablishing National and Regional Centers for Systematic Reviews\nHoward White\, Campbell Collaboration\nPersonnel\, Funding\, Auspice and Structure\n\nPart 2: Introduction seminar to Systematic Review (13.15 – 16.15) \n\nDeveloping a Protocol \nHoward White\, Campbell Collaboration \n\nSelecting a topic and deciding its scope\nSearch strategy\, including software and data bases\nInclusion/exclusion criteria\, including methodologies\nQuality assessments\nData extraction\nEvidence gap maps\n\n\n\n\nSynthesis \nJacob Klerman\, Abt Associates \n\nQualitative\nWhen appropriate\nOrder for presenting findings (thematically\, chronologically\, etc.)\nDegree of study quality assessment\nQuantitative (Meta-analysis)\nWhen appropriate\nDealing with heterogeneity (fixed vs random effects)\nMeta-regressions\n\n\n\n\nDiscussion/Analysis \nDouglas Call\, University of Maryland \n\nHow the findings fit within the program context (e.g.\, program theory\, program design\, implementation\, and the possibly changing counterfactual)\nGeneralizability to other contexts\nImplications for policy\n\n\n\n\nPublication\nHoward White\, Campbell Collaboration\nJacob Klerman\, Abt Associates \n\nThe Campbell process\nJournal publication\n\n\n\nOrganizers\nMain organizers \nCentre for Research on Discretion and Paternalism (UiB) \nUniversity of Maryland\, School of Public Policy \nCollaborating partners \nUC Berkeley Social Welfare \nBergen Resource Centre \nInternational Network for Social Policy Teaching and Research
URL:https://discretion.w.uib.no/event/phd-seminar-on-systematic-reviews/
LOCATION:Jekteviksbakken 31\, Jekteviksbakken 31\, Bergen\, Hordaland\, 5006\, Norway
CATEGORIES:Seminar
END:VEVENT
END:VCALENDAR