BEGIN:VCALENDAR
VERSION:2.0
PRODID:-//Centre for Research on Discretion and Paternalism (DIPA) - ECPv6.15.20//NONSGML v1.0//EN
CALSCALE:GREGORIAN
METHOD:PUBLISH
X-WR-CALNAME:Centre for Research on Discretion and Paternalism (DIPA)
X-ORIGINAL-URL:https://discretion.w.uib.no
X-WR-CALDESC:Events for Centre for Research on Discretion and Paternalism (DIPA)
REFRESH-INTERVAL;VALUE=DURATION:PT1H
X-Robots-Tag:noindex
X-PUBLISHED-TTL:PT1H
BEGIN:VTIMEZONE
TZID:Europe/Oslo
BEGIN:DAYLIGHT
TZOFFSETFROM:+0100
TZOFFSETTO:+0200
TZNAME:CEST
DTSTART:20170326T010000
END:DAYLIGHT
BEGIN:STANDARD
TZOFFSETFROM:+0200
TZOFFSETTO:+0100
TZNAME:CET
DTSTART:20171029T010000
END:STANDARD
BEGIN:DAYLIGHT
TZOFFSETFROM:+0100
TZOFFSETTO:+0200
TZNAME:CEST
DTSTART:20180325T010000
END:DAYLIGHT
BEGIN:STANDARD
TZOFFSETFROM:+0200
TZOFFSETTO:+0100
TZNAME:CET
DTSTART:20181028T010000
END:STANDARD
BEGIN:DAYLIGHT
TZOFFSETFROM:+0100
TZOFFSETTO:+0200
TZNAME:CEST
DTSTART:20190331T010000
END:DAYLIGHT
BEGIN:STANDARD
TZOFFSETFROM:+0200
TZOFFSETTO:+0100
TZNAME:CET
DTSTART:20191027T010000
END:STANDARD
END:VTIMEZONE
BEGIN:VEVENT
DTSTART;TZID=Europe/Oslo:20180815T000000
DTEND;TZID=Europe/Oslo:20180824T235959
DTSTAMP:20260420T074939
CREATED:20180504T113448Z
LAST-MODIFIED:20180504T113448Z
UID:3034-1534291200-1535155199@discretion.w.uib.no
SUMMARY:PhD Course: Effects of Lawfare (Child Rights)
DESCRIPTION:During Bergen Exchange\, Centre for Research on Discretion and Paternalism will contribute to the PhD Course “Effects of Lawfare: Courts and law as battlegrounds for social change“. \n \nThe course combines lectures specifically designed for the course and participation in lectures\, panels\, round-tables\, and workshops of the Bergen Exchanges on Law & Social Transformation. In addition to the general track\, there are two options of specialization: Effects of Lawfare concerning Child Rights and Health Rights. \nCourse content\nThe course offers an introduction to the debates on the potential and limits of law as an instrument of social change\, and opportunities to engage with some of the foremost scholars in the field\, and international research projects currently seeking better answers to these questions. \nCredit\nStudents will receive 3 ECTS for participating in the course (80% of seminars)\, submission of paper abstract (150-300 words)\, and presentation of their own work to the other participants. \nStudents who submit a publishable journal article (4\,000-6\,000 words\, with an additional reading list of 500 pages\, which can be from the elective reading list) by 14 October 2018 are awarded an additional 7 ECTS. (Postdoctoral researchers and MA level students will be accepted if space permits). \nFree course\nThe PhD course is free of charge and open to applicant from Norwegian and international institutions on a first-come first serve basis. Participants do\, however\, have to cover their own travel and accommodation costs\, as there unfortunately are no scholarships available. \nMore information at: hwww.lawtransform.no/bergen-exchanges-2018/phd-course/
URL:https://discretion.w.uib.no/event/phd-course-effects-of-lawfare-child-rights/
ATTACH;FMTTYPE=image/png:https://discretion.w.uib.no/files/2016/02/Centre-for-Law-and-Social-Transformation.png
END:VEVENT
END:VCALENDAR