BEGIN:VCALENDAR
VERSION:2.0
PRODID:-//Centre for Research on Discretion and Paternalism (DIPA) - ECPv6.15.20//NONSGML v1.0//EN
CALSCALE:GREGORIAN
METHOD:PUBLISH
X-WR-CALNAME:Centre for Research on Discretion and Paternalism (DIPA)
X-ORIGINAL-URL:https://discretion.w.uib.no
X-WR-CALDESC:Events for Centre for Research on Discretion and Paternalism (DIPA)
REFRESH-INTERVAL;VALUE=DURATION:PT1H
X-Robots-Tag:noindex
X-PUBLISHED-TTL:PT1H
BEGIN:VTIMEZONE
TZID:Europe/Oslo
BEGIN:DAYLIGHT
TZOFFSETFROM:+0100
TZOFFSETTO:+0200
TZNAME:CEST
DTSTART:20170326T010000
END:DAYLIGHT
BEGIN:STANDARD
TZOFFSETFROM:+0200
TZOFFSETTO:+0100
TZNAME:CET
DTSTART:20171029T010000
END:STANDARD
BEGIN:DAYLIGHT
TZOFFSETFROM:+0100
TZOFFSETTO:+0200
TZNAME:CEST
DTSTART:20180325T010000
END:DAYLIGHT
BEGIN:STANDARD
TZOFFSETFROM:+0200
TZOFFSETTO:+0100
TZNAME:CET
DTSTART:20181028T010000
END:STANDARD
BEGIN:DAYLIGHT
TZOFFSETFROM:+0100
TZOFFSETTO:+0200
TZNAME:CEST
DTSTART:20190331T010000
END:DAYLIGHT
BEGIN:STANDARD
TZOFFSETFROM:+0200
TZOFFSETTO:+0100
TZNAME:CET
DTSTART:20191027T010000
END:STANDARD
END:VTIMEZONE
BEGIN:VEVENT
DTSTART;TZID=Europe/Oslo:20180608T121500
DTEND;TZID=Europe/Oslo:20180608T140000
DTSTAMP:20260424T081241
CREATED:20180418T111817Z
LAST-MODIFIED:20180418T111817Z
UID:2946-1528460100-1528466400@discretion.w.uib.no
SUMMARY:Guest lecture: Michael Lipsky (Bergen)
DESCRIPTION:Reflections on Street Level Bureaucracy\n \nLINK TO RECORDING: https://youtu.be/plVzG0UQ8L0 \nMichael Lipsky is well known in the field of public administration for his classic book about street-level bureaucracy (1980). Here\, he claim that state employees (such as police\, social workers and legal-aid lawyers) should be seen as part of the policy-making community and as exercisers of political power\, as they wield their considerable discretion in the day-to-day implementation of public programs. \nLipsky argues that these relatively low-level public service employees labor under huge caseloads\, ambiguous agency goals\, and inadequate resources. When combined with substantial discretionary authority and the requirement to interpret policy on a case-by-case basis\, the difference between government policy in theory and policy in practice can be substantial and troubling. \n\nRead more: Street-Level Bureaucracy\n\nIn this lecture\, Lipsky will draw on ideas and concerns he has with the way the field of  public administration is developing\, and share some of his newer thoughts and reflections on dimensions of street level bureaucracy. \nMichael Lipsky is a Distinguished Senior Fellow at Demos\, and a former professor of political science at MIT. \nThe lecture is open to the public. For questions about the event\, contact daniel.nygard@uib.no.
URL:https://discretion.w.uib.no/event/guest-lecture-michael-lipsky/
CATEGORIES:Presentation
ATTACH;FMTTYPE=image/png:https://discretion.w.uib.no/files/2018/05/Lipsky-nettside.png
END:VEVENT
END:VCALENDAR