BEGIN:VCALENDAR
VERSION:2.0
PRODID:-//Centre for Research on Discretion and Paternalism (DIPA) - ECPv6.15.20//NONSGML v1.0//EN
CALSCALE:GREGORIAN
METHOD:PUBLISH
X-WR-CALNAME:Centre for Research on Discretion and Paternalism (DIPA)
X-ORIGINAL-URL:https://discretion.w.uib.no
X-WR-CALDESC:Events for Centre for Research on Discretion and Paternalism (DIPA)
REFRESH-INTERVAL;VALUE=DURATION:PT1H
X-Robots-Tag:noindex
X-PUBLISHED-TTL:PT1H
BEGIN:VTIMEZONE
TZID:Europe/Oslo
BEGIN:DAYLIGHT
TZOFFSETFROM:+0100
TZOFFSETTO:+0200
TZNAME:CEST
DTSTART:20170326T010000
END:DAYLIGHT
BEGIN:STANDARD
TZOFFSETFROM:+0200
TZOFFSETTO:+0100
TZNAME:CET
DTSTART:20171029T010000
END:STANDARD
BEGIN:DAYLIGHT
TZOFFSETFROM:+0100
TZOFFSETTO:+0200
TZNAME:CEST
DTSTART:20180325T010000
END:DAYLIGHT
BEGIN:STANDARD
TZOFFSETFROM:+0200
TZOFFSETTO:+0100
TZNAME:CET
DTSTART:20181028T010000
END:STANDARD
BEGIN:DAYLIGHT
TZOFFSETFROM:+0100
TZOFFSETTO:+0200
TZNAME:CEST
DTSTART:20190331T010000
END:DAYLIGHT
BEGIN:STANDARD
TZOFFSETFROM:+0200
TZOFFSETTO:+0100
TZNAME:CET
DTSTART:20191027T010000
END:STANDARD
END:VTIMEZONE
BEGIN:VEVENT
DTSTART;TZID=Europe/Oslo:20180531T000000
DTEND;TZID=Europe/Oslo:20180602T235959
DTSTAMP:20260420T074939
CREATED:20180524T122258Z
LAST-MODIFIED:20180524T122258Z
UID:3140-1527724800-1527983999@discretion.w.uib.no
SUMMARY:International Conference on Decision-Making in Child and Adult Protection (Basel)
DESCRIPTION:Prof. Marit Skivenes will hold a lecture at the conference on May 31st 18:00: \nMarit Skivenes – International Differences in Discretionary Decision-Making
URL:https://discretion.w.uib.no/event/international-conference-on-decision-making-in-child-and-adult-protection-basel/
CATEGORIES:Conference
END:VEVENT
END:VCALENDAR