BEGIN:VCALENDAR
VERSION:2.0
PRODID:-//Centre for Research on Discretion and Paternalism (DIPA) - ECPv6.15.20//NONSGML v1.0//EN
CALSCALE:GREGORIAN
METHOD:PUBLISH
X-WR-CALNAME:Centre for Research on Discretion and Paternalism (DIPA)
X-ORIGINAL-URL:https://discretion.w.uib.no
X-WR-CALDESC:Events for Centre for Research on Discretion and Paternalism (DIPA)
REFRESH-INTERVAL;VALUE=DURATION:PT1H
X-Robots-Tag:noindex
X-PUBLISHED-TTL:PT1H
BEGIN:VTIMEZONE
TZID:Europe/Oslo
BEGIN:DAYLIGHT
TZOFFSETFROM:+0100
TZOFFSETTO:+0200
TZNAME:CEST
DTSTART:20170326T010000
END:DAYLIGHT
BEGIN:STANDARD
TZOFFSETFROM:+0200
TZOFFSETTO:+0100
TZNAME:CET
DTSTART:20171029T010000
END:STANDARD
BEGIN:DAYLIGHT
TZOFFSETFROM:+0100
TZOFFSETTO:+0200
TZNAME:CEST
DTSTART:20180325T010000
END:DAYLIGHT
BEGIN:STANDARD
TZOFFSETFROM:+0200
TZOFFSETTO:+0100
TZNAME:CET
DTSTART:20181028T010000
END:STANDARD
BEGIN:DAYLIGHT
TZOFFSETFROM:+0100
TZOFFSETTO:+0200
TZNAME:CEST
DTSTART:20190331T010000
END:DAYLIGHT
BEGIN:STANDARD
TZOFFSETFROM:+0200
TZOFFSETTO:+0100
TZNAME:CET
DTSTART:20191027T010000
END:STANDARD
END:VTIMEZONE
BEGIN:VEVENT
DTSTART;TZID=Europe/Oslo:20180518T110000
DTEND;TZID=Europe/Oslo:20180518T133000
DTSTAMP:20260424T204952
CREATED:20180511T110208Z
LAST-MODIFIED:20180511T110208Z
UID:3107-1526641200-1526650200@discretion.w.uib.no
SUMMARY:Estonian Experience of Implementation of the ECHR
DESCRIPTION:Katre Luhamaa will make a presentation in the conference “The European Court of Human Rights in East-West Relations: Norms\, Values and Legal Politics” organised in Moscow 18-19 May 2018. Dr Luhamaa will analyse the impact of the ECHR and the practice of the ECtHR to the Estonian legal system and the national court practice. The conference is organised by the University of Tartu and the Moscow Higher School of Economics.
URL:https://discretion.w.uib.no/event/estonian-experience-of-implementation-of-the-echr/
CATEGORIES:Presentation
END:VEVENT
END:VCALENDAR