BEGIN:VCALENDAR
VERSION:2.0
PRODID:-//Centre for Research on Discretion and Paternalism (DIPA) - ECPv6.15.20//NONSGML v1.0//EN
CALSCALE:GREGORIAN
METHOD:PUBLISH
X-WR-CALNAME:Centre for Research on Discretion and Paternalism (DIPA)
X-ORIGINAL-URL:https://discretion.w.uib.no
X-WR-CALDESC:Events for Centre for Research on Discretion and Paternalism (DIPA)
REFRESH-INTERVAL;VALUE=DURATION:PT1H
X-Robots-Tag:noindex
X-PUBLISHED-TTL:PT1H
BEGIN:VTIMEZONE
TZID:Europe/Oslo
BEGIN:DAYLIGHT
TZOFFSETFROM:+0100
TZOFFSETTO:+0200
TZNAME:CEST
DTSTART:20170326T010000
END:DAYLIGHT
BEGIN:STANDARD
TZOFFSETFROM:+0200
TZOFFSETTO:+0100
TZNAME:CET
DTSTART:20171029T010000
END:STANDARD
BEGIN:DAYLIGHT
TZOFFSETFROM:+0100
TZOFFSETTO:+0200
TZNAME:CEST
DTSTART:20180325T010000
END:DAYLIGHT
BEGIN:STANDARD
TZOFFSETFROM:+0200
TZOFFSETTO:+0100
TZNAME:CET
DTSTART:20181028T010000
END:STANDARD
BEGIN:DAYLIGHT
TZOFFSETFROM:+0100
TZOFFSETTO:+0200
TZNAME:CEST
DTSTART:20190331T010000
END:DAYLIGHT
BEGIN:STANDARD
TZOFFSETFROM:+0200
TZOFFSETTO:+0100
TZNAME:CET
DTSTART:20191027T010000
END:STANDARD
END:VTIMEZONE
BEGIN:VEVENT
DTSTART;TZID=Europe/Oslo:20180508T120000
DTEND;TZID=Europe/Oslo:20180508T133000
DTSTAMP:20260420T072516
CREATED:20180430T104854Z
LAST-MODIFIED:20180430T104854Z
UID:3009-1525780800-1525786200@discretion.w.uib.no
SUMMARY:Open lunch seminar: June Thoburn (EN)
DESCRIPTION:Child welfare and child protection in the UK nations: politics\, economics and professional practice. \nProf. June Thoburn is currently visiting the Centre for Research on Discretion and Paternalism as a guest researcher. On Tuesday May 8th 12.00 -13.30 we are hosting an open lunch seminar. At the seminar\, June will present on the topic “Child welfare and child protection in the UK nations: politics\, economics and professional practice”. \nJune Thoburn is an Emeritus Professor in the School of Social Work at the University of East Anglia. She is internationally renowned for her research on children’s social care\, and have been appointed a Commander of the Order of the British Empire for her for services to social work. \nThe seminar is open to everyone. Refreshments and coffee/tea is served. \nIf you have questions about the seminar\, please contact daniel.nygard@uib.no.
URL:https://discretion.w.uib.no/event/open-lunch-seminar-june-thoburn/
LOCATION:DIPA-room (17.112)\, Christies gate 17\, University of Bergen\, Christies gate 17\, Bergen\, Bergen\, 5007\, Norway
END:VEVENT
END:VCALENDAR