BEGIN:VCALENDAR
VERSION:2.0
PRODID:-//Centre for Research on Discretion and Paternalism (DIPA) - ECPv6.15.20//NONSGML v1.0//EN
CALSCALE:GREGORIAN
METHOD:PUBLISH
X-WR-CALNAME:Centre for Research on Discretion and Paternalism (DIPA)
X-ORIGINAL-URL:https://discretion.w.uib.no
X-WR-CALDESC:Events for Centre for Research on Discretion and Paternalism (DIPA)
REFRESH-INTERVAL;VALUE=DURATION:PT1H
X-Robots-Tag:noindex
X-PUBLISHED-TTL:PT1H
BEGIN:VTIMEZONE
TZID:Europe/Oslo
BEGIN:DAYLIGHT
TZOFFSETFROM:+0100
TZOFFSETTO:+0200
TZNAME:CEST
DTSTART:20160327T010000
END:DAYLIGHT
BEGIN:STANDARD
TZOFFSETFROM:+0200
TZOFFSETTO:+0100
TZNAME:CET
DTSTART:20161030T010000
END:STANDARD
BEGIN:DAYLIGHT
TZOFFSETFROM:+0100
TZOFFSETTO:+0200
TZNAME:CEST
DTSTART:20170326T010000
END:DAYLIGHT
BEGIN:STANDARD
TZOFFSETFROM:+0200
TZOFFSETTO:+0100
TZNAME:CET
DTSTART:20171029T010000
END:STANDARD
BEGIN:DAYLIGHT
TZOFFSETFROM:+0100
TZOFFSETTO:+0200
TZNAME:CEST
DTSTART:20180325T010000
END:DAYLIGHT
BEGIN:STANDARD
TZOFFSETFROM:+0200
TZOFFSETTO:+0100
TZNAME:CET
DTSTART:20181028T010000
END:STANDARD
END:VTIMEZONE
BEGIN:VEVENT
DTSTART;TZID=Europe/Oslo:20171004T114000
DTEND;TZID=Europe/Oslo:20171004T120000
DTSTAMP:20260422T103053
CREATED:20170911T074830Z
LAST-MODIFIED:20170911T074830Z
UID:1765-1507117200-1507118400@discretion.w.uib.no
SUMMARY:Presentation at ISPCAN 2017
DESCRIPTION:Principal investigator Marit Skivenes will give the presentation “International perspectives on child-responsive courts: Is the voice of the child included?” together with Jill Berrick (University of California at Berkeley)\, Marit Skivenes (University of Bergen)\, Tarja Poso (University of Tampere)\, Jonathan Dickens (University of East Anglia) from our research team at the ISPCAN European Regional Meeting 2017. \n\nThe Internaitonal Society for the Prevention of Child Abuse and Neglect (ISPCAN) is a multidisciplinary international organization that brings together a worldwide cross-section of comitted professionals to work toward the prevention and treatment of child abuse\, neglect and exploitation globally.
URL:https://discretion.w.uib.no/event/presentation-at-ispcan-2017/
LOCATION:World Forum\, Churchillplein 10\, The Hauge\, The Hauge\, 2517\, Netherlands
END:VEVENT
END:VCALENDAR